BEGIN:VCALENDAR
VERSION:2.0
PRODID:-//wp-events-plugin.com//7.2.3.1//EN
BEGIN:VEVENT
UID:100@rbbsrc.graycelltech.net
DTSTART:20230708T090000Z
DTEND:20230708T130000Z
DTSTAMP:20230705T083242Z
URL:https://rbbsrc.graycelltech.net/events/voluntary-blood-donation-camp-a
 t-saini-bhawan-ropar-on-8-7-2023/
SUMMARY:Voluntary Blood Donation Camp at Saini Bhawan\, Ropar. on 8.7.2023
DESCRIPTION:
END:VEVENT
END:VCALENDAR