BEGIN:VCALENDAR
VERSION:2.0
PRODID:-//wp-events-plugin.com//7.2.3.1//EN
BEGIN:VEVENT
UID:120@rbbsrc.graycelltech.net
DTSTART:20230905T120000Z
DTEND:20230905T180000Z
DTSTAMP:20230905T044155Z
URL:https://rbbsrc.graycelltech.net/events/voluntary-blood-donation-camp-a
 t-sebiz-square-auditorium-reception-area-it-park-sector-67-mohali-on-5-9-2
 023/
SUMMARY:Voluntary Blood Donation Camp at Sebiz Square – Auditorium (Recep
 tion area)  IT park Sector 67\, Mohali on 5.9.2023
DESCRIPTION:
END:VEVENT
END:VCALENDAR