BEGIN:VCALENDAR
VERSION:2.0
PRODID:-//wp-events-plugin.com//7.2.3.1//EN
BEGIN:VEVENT
UID:128@rbbsrc.graycelltech.net
DTSTART:20230924T100000Z
DTEND:20230924T140000Z
DTSTAMP:20230922T040318Z
URL:https://rbbsrc.graycelltech.net/events/voluntary-blood-donation-camp-a
 t-shri-shiv-mandir-rangilpur-on-24-9-2023/
SUMMARY:Voluntary Blood Donation Camp at Shri Shiv Mandir \, Rangilpur on 2
 4.9.2023
DESCRIPTION:
END:VEVENT
END:VCALENDAR