BEGIN:VCALENDAR
VERSION:2.0
PRODID:-//wp-events-plugin.com//7.2.3.1//EN
BEGIN:VEVENT
UID:67@rbbsrc.graycelltech.net
DTSTART:20230513T080000Z
DTEND:20230513T130000Z
DTSTAMP:20230512T053521Z
URL:https://rbbsrc.graycelltech.net/events/voluntary-blood-donation-camp-a
 t-st-johns-high-school-sector-26-chandigarh-on13-05-2023/
SUMMARY:Voluntary Blood  Donation Camp at St Johns High School\, Sector 26\
 , Chandigarh on13.05.2023
DESCRIPTION:
END:VEVENT
END:VCALENDAR