BEGIN:VCALENDAR
VERSION:2.0
PRODID:-//wp-events-plugin.com//7.2.3.1//EN
BEGIN:VEVENT
UID:130@rbbsrc.graycelltech.net
DTSTART:20230928T100000Z
DTEND:20230928T140000Z
DTSTAMP:20230927T051826Z
URL:https://rbbsrc.graycelltech.net/events/voluntary-blood-donation-camp-a
 t-taranjeet-bhasin-bhawan-ropar-on-28-9-2023/
SUMMARY:Voluntary Blood Donation Camp at Taranjeet Bhasin Bhawan\, Ropar. o
 n 28.9.2023
DESCRIPTION:
END:VEVENT
END:VCALENDAR