BEGIN:VCALENDAR
VERSION:2.0
PRODID:-//wp-events-plugin.com//7.2.3.1//EN
BEGIN:VEVENT
UID:94@rbbsrc.graycelltech.net
DTSTART:20230626T100000Z
DTEND:20230626T130000Z
DTSTAMP:20230624T122329Z
URL:https://rbbsrc.graycelltech.net/events/voluntary-blood-donation-camp-a
 t-the-valley-club-panchkula-haryana-on-26-6-2023/
SUMMARY:Voluntary Blood Donation Camp at The Valley Club\, Panchkula\, Hary
 ana on 26.6.2023
DESCRIPTION:
END:VEVENT
END:VCALENDAR