BEGIN:VCALENDAR
VERSION:2.0
PRODID:-//wp-events-plugin.com//7.2.3.1//EN
BEGIN:VEVENT
UID:107@rbbsrc.graycelltech.net
DTSTART:20230727T100000Z
DTEND:20230727T140000Z
DTSTAMP:20230727T063540Z
URL:https://rbbsrc.graycelltech.net/events/voluntary-blood-donation-camp-a
 t-truck-operators-union-baddi-on-27-7-2023/
SUMMARY:Voluntary Blood Donation Camp at Truck Operators Union Baddi on 27.
 7.2023
DESCRIPTION:
END:VEVENT
END:VCALENDAR