BEGIN:VCALENDAR
VERSION:2.0
PRODID:-//wp-events-plugin.com//7.2.3.1//EN
BEGIN:VEVENT
UID:101@rbbsrc.graycelltech.net
DTSTART:20230710T100000Z
DTEND:20230710T133000Z
DTSTAMP:20230708T042040Z
URL:https://rbbsrc.graycelltech.net/events/voluntary-blood-donation-camp-a
 t-vill-islam-nagar-sector-3-4-4a-kalka-urban-complex-pinjore-panchkula-on-
 10-7-2023/
SUMMARY:Voluntary Blood Donation Camp at Vill- Islam Nagar\, Sector 3\, 4 &
 amp\; 4A\, Kalka Urban.  Complex Pinjore\, Panchkula. on 10.7.2023
DESCRIPTION:
END:VEVENT
END:VCALENDAR