BEGIN:VCALENDAR
VERSION:2.0
PRODID:-//wp-events-plugin.com//7.2.3.1//EN
BEGIN:VEVENT
UID:116@rbbsrc.graycelltech.net
DTSTART:20230809T103000Z
DTEND:20230809T133000Z
DTSTAMP:20230808T055053Z
URL:https://rbbsrc.graycelltech.net/events/voluntary-blood-donation-camp-a
 tgodrej-boyce-mfg-co-ltd-hi-tech-logistic-park-village-mehmadpur-h-b-no-14
 4-shambhu-barrier-sub-tehsil-ghanaurtehsil-rajpura-dis/
SUMMARY:Voluntary Blood Donation Camp at Godrej &amp\; Boyce Mfg. co. 
 Ltd. Hi Tech Logistic Park\, Village Mehmadpur (H.B. NO. 144) Shambhu Barr
 ier\, Sub Tehsil Ghanaur\,Tehsil Rajpura District Patiala. on 9.8.2023
DESCRIPTION:
END:VEVENT
END:VCALENDAR