BEGIN:VCALENDAR
VERSION:2.0
PRODID:-//wp-events-plugin.com//7.2.3.1//EN
BEGIN:VEVENT
UID:121@rbbsrc.graycelltech.net
DTSTART:20230907T100000Z
DTEND:20230907T140000Z
DTSTAMP:20230907T043557Z
URL:https://rbbsrc.graycelltech.net/events/voluntary-blood-donation-camp-o
 n-shaheed-baba-deep-singh-sports-club-vill-bhakumajra-on-7-9-2023/
SUMMARY:Voluntary Blood Donation Camp on Shaheed Baba Deep Singh Sports Clu
 b \, Vill Bhakumajra on 7.9.2023
DESCRIPTION:
END:VEVENT
END:VCALENDAR